{"text_format":"1","workbook":"xlsx","n_sheets":5,"sheets":["Liste","Gast","Heim","Detail Gast","Detail Heim"],"not_rendered":{"charts":0,"images":1,"macros":1,"external_links":0,"defined_names":0,"comments":0,"pivot_tables":0},"unopened":[],"bounds":{"document_bytes":16777216,"sheet_cells":100000,"rows_first":2000,"rows_last":500,"rows_between":2000,"halvings":0,"cell_chars":16384,"cell_head_chars":4096},"cells_cut":0,"cells_raw":0,"read":"whole","date_system":"1900"}

{"sheet":"Liste","index":0,"n_rows":44,"n_cols":7,"rows_kept":44,"cut":false,"hidden":false,"merged":[[9,0,9,6],[15,0,15,1],[15,2,15,5],[16,0,16,1],[0,2,0,6],[2,2,2,6],[3,2,3,6],[4,2,4,6],[5,2,5,6],[8,0,8,6],[43,0,43,6],[11,0,11,6],[27,0,27,1],[27,2,27,5],[28,0,28,1],[37,0,37,1],[37,4,37,6],[39,0,39,1]]}
[null,null,"Markgräfler Sportschützen"]
[]
[null,null,"Kreis 8 im Südbadischen Sportschützenverband e.V."]
[null,null,"Rundenwettkampfleiter Großkaliberpistole/-Revolver"]
[null,null,"Helmut Becker, Gartenstr. 34, 79541 Lörrach-Hauingen"]
[null,null,"Tel.: 07621/56995·Fax: 07621/949846·E-Mail: Becker-H-A@t-online.de"]
[]
[]
["Ergebnisliste für Kreisrundenwettkämpfe"]
["Großkaliberpistole/-revolver"]
[null,{"$f":"Heim!A17","v":"1. "},{"$f":"Heim!B17","v":"Wettkampf"},null,{"$f":"Heim!B18","v":"Endtermin:"},{"$f":"Heim!C18","v":"00:00:00"}]
["Die Wettkämpfe werden gemäß der Sportordnung des DSB und der Rundenwettkampfordnung des MSSK durchgeführt"]
[]
[null,"Heimmannschaft:",null,null,{"$f":"Heim!E10","v":0}]
[]
["Schützin / Schütze",null,"10er Serie",null,null,null,"Gesamt-"]
["Name, Vorname",null,"150 Sek","150 Sek","20 Sek","20 Sek","ergebnis:"]
["1.",{"$f":"Heim!B3","v":0},{"$f":"Heim!C3","v":0},{"$f":"Heim!D3","v":0},{"$f":"Heim!E3","v":0},{"$f":"Heim!F3","v":0},{"$f":"Heim!G3","v":0}]
["2.",{"$f":"Heim!B4","v":0},{"$f":"Heim!C4","v":0},{"$f":"Heim!D4","v":0},{"$f":"Heim!E4","v":0},{"$f":"Heim!F4","v":0},{"$f":"Heim!G4","v":0}]
["3.",{"$f":"Heim!B5","v":0},{"$f":"Heim!C5","v":0},{"$f":"Heim!D5","v":0},{"$f":"Heim!E5","v":0},{"$f":"Heim!F5","v":0},{"$f":"Heim!G5","v":0}]
[null,"Gesamtergebnis der 3 besten Schützinnen oder Schützen:",null,null,null,null,{"$f":"SUM(G18:G20)","v":0}]
["4.",{"$f":"Heim!B6","v":0},{"$f":"Heim!C6","v":0},{"$f":"Heim!D6","v":0},{"$f":"Heim!E6","v":0},{"$f":"Heim!F6","v":0},{"$f":"Heim!G6","v":0}]
["5.",{"$f":"Heim!B7","v":0},{"$f":"Heim!C7","v":0},{"$f":"Heim!D7","v":0},{"$f":"Heim!E7","v":0},{"$f":"Heim!F7","v":0},{"$f":"Heim!G7","v":0}]
["6.",{"$f":"Heim!B8","v":0},{"$f":"Heim!C8","v":0},{"$f":"Heim!D8","v":0},{"$f":"Heim!E8","v":0},{"$f":"Heim!F8","v":0},{"$f":"Heim!G8","v":0}]
[]
[null,"Gastmannschaft:",null,null,{"$f":"Gast!E10","v":0}]
[]
["Schützin / Schütze",null,"10er Serie",null,null,null,"Gesamt-"]
["Name, Vorname",null,"150 Sek","150 Sek","20 Sek","20 Sek","ergebnis:"]
["1.",{"$f":"Gast!B3","v":0},{"$f":"Gast!C3","v":0},{"$f":"Gast!D3","v":0},{"$f":"Gast!E3","v":0},{"$f":"Gast!F3","v":0},{"$f":"Gast!G3","v":0}]
["2.",{"$f":"Gast!B4","v":0},{"$f":"Gast!C4","v":0},{"$f":"Gast!D4","v":0},{"$f":"Gast!E4","v":0},{"$f":"Gast!F4","v":0},{"$f":"Gast!G4","v":0}]
["3.",{"$f":"Gast!B5","v":0},{"$f":"Gast!C5","v":0},{"$f":"Gast!D5","v":0},{"$f":"Gast!E5","v":0},{"$f":"Gast!F5","v":0},{"$f":"Gast!G5","v":0}]
[null,"Gesamtegebnis der 3 besten Schützinnen oder Schützen:",null,null,null,null,{"$f":"SUM(G30:G32)","v":0}]
["4.",{"$f":"Gast!B6","v":0},{"$f":"Gast!C6","v":0},{"$f":"Gast!D6","v":0},{"$f":"Gast!E6","v":0},{"$f":"Gast!F6","v":0},{"$f":"Gast!G6","v":0}]
["5.",{"$f":"Gast!B7","v":0},{"$f":"Gast!C7","v":0},{"$f":"Gast!D7","v":0},{"$f":"Gast!E7","v":0},{"$f":"Gast!F7","v":0},{"$f":"Gast!G7","v":0}]
["6.",{"$f":"Gast!B8","v":0},{"$f":"Gast!C8","v":0},{"$f":"Gast!D8","v":0},{"$f":"Gast!E8","v":0},{"$f":"Gast!F8","v":0},{"$f":"Gast!G8","v":0}]
[]
["Datum des Wettkampftages:",null,null,null,"Unterschriften der Mannschaftsführer:"]
[]
[{"$f":"TODAY()","v":"2023-12-03"}]
[null,null,null,null,"Heimmannschaft",null,"Gastmannschaft"]
[]
[]
["Die Ergebnisliste muß spätestens am dritten Kalendertag nach dem Endtermin dem Rundenwettkampfleiter vorliegen."]

{"sheet":"Gast","index":1,"n_rows":15,"n_cols":7,"rows_kept":15,"cut":false,"hidden":false,"merged":[[9,2,9,6],[0,2,0,5],[12,1,12,9],[14,1,14,6]]}
[null,"Name","10er Serien",null,null,null,"Total"]
[null,null,"150 sec","150 sec","20 sec","20 sec"]
["1.",null,null,null,null,null,{"$f":"SUM(C3:F3)","v":0}]
["2.",null,null,null,null,null,0]
["3.",null,null,null,null,null,0]
["4.",null,null,null,null,null,0]
["5.",null,null,null,null,null,0]
["6.",null,null,null,null,null,0]
[]
[null,"Gast:"]
[]
[]
[null,"Achtung: Im Rot markierten Feld keine Eingabe machen, Formel hinterlegt!!!"]
[]
[null,"Nur in den grünen Feldern schreiben !!"]

{"sheet":"Heim","index":2,"n_rows":18,"n_cols":7,"rows_kept":18,"cut":false,"hidden":false,"merged":[[9,2,9,6],[0,2,0,5],[15,1,15,6]]}
[null,"Name","10er Serien",null,null,null,"Total"]
[null,null,"150 sec","150 sec","20 sec","20 sec"]
["1.",null,null,null,null,null,{"$f":"SUM(C3:F3)","v":0}]
["2.",null,null,null,null,null,0]
["3.",null,null,null,null,null,0]
["4.",null,null,null,null,null,0]
["5.",null,null,null,null,null,0]
["6.",null,null,null,null,null,0]
[]
[null,"Heim:"]
[]
[]
[]
[]
[null,"Achtung: Im Rot markierten Feld keine Eingabe machen, Formel hinterlegt!!!"]
[null,"Nur in den grünen Feldern schreiben !!"]
["1. ","Wettkampf"]
[null,"Endtermin:",null,"<< Datum"]

{"sheet":"Detail Gast","index":3,"n_rows":30,"n_cols":35,"rows_kept":30,"cut":false,"hidden":false,"merged":[[0,30,0,34],[1,30,1,34],[2,30,2,34],[16,30,16,34],[0,24,0,28],[1,24,1,28],[2,24,2,28],[16,24,16,28],[2,0,2,4],[2,18,2,22],[16,18,16,22],[16,0,16,4],[2,6,2,10],[16,6,16,10],[2,12,2,16],[16,12,16,16],[0,18,0,22],[1,18,1,22],[0,0,0,4],[1,0,1,4],[0,6,0,10],[1,6,1,10],[0,12,0,16],[1,12,1,16]]}
["Name",null,null,null,null,null,"Name",null,null,null,null,null,"Name",null,null,null,null,null,"Name",null,null,null,null,null,"Name",null,null,null,null,null,"Name"]
[]
["150 sec",null,null,null,null,null,"150 sec",null,null,null,null,null,"150 sec",null,null,null,null,null,"150 sec",null,null,null,null,null,"150 sec",null,null,null,null,null,"150 sec"]
["Ring","S1","S2","E1","E2",null,"Ring","S1","S2","E1","E2",null,"Ring","S1","S2","E1","E2",null,"Ring","S1","S2","E1","E2",null,"Ring","S1","S2","E1","E2",null,"Ring","S1","S2","E1","E2"]
[10,null,null,{"$f":"A5*B5","v":0},{"$f":"A5*C5","v":0},null,10,null,null,{"$f":"G5*H5","v":0},{"$f":"G5*I5","v":0},null,10,null,null,{"$f":"M5*N5","v":0},{"$f":"M5*O5","v":0},null,10,null,null,{"$f":"S5*T5","v":0},{"$f":"S5*U5","v":0},null,10,null,null,{"$f":"Y5*Z5","v":0},{"$f":"Y5*AA5","v":0},null,10,null,null,{"$f":"AE5*AF5","v":0},{"$f":"AE5*AG5","v":0}]
[9,null,null,{"$f":"A6*B6","v":0},{"$f":"A6*C6","v":0},null,9,null,null,{"$f":"G6*H6","v":0},{"$f":"G6*I6","v":0},null,9,null,null,{"$f":"M6*N6","v":0},{"$f":"M6*O6","v":0},null,9,null,null,{"$f":"S6*T6","v":0},{"$f":"S6*U6","v":0},null,9,null,null,{"$f":"Y6*Z6","v":0},{"$f":"Y6*AA6","v":0},null,9,null,null,{"$f":"AE6*AF6","v":0},{"$f":"AE6*AG6","v":0}]
[8,null,null,0,0,null,8,null,null,0,0,null,8,null,null,0,0,null,8,null,null,0,0,null,8,null,null,0,0,null,8,null,null,0,0]
[7,null,null,0,0,null,7,null,null,0,0,null,7,null,null,0,0,null,7,null,null,0,0,null,7,null,null,0,0,null,7,null,null,0,0]
[6,null,null,0,0,null,6,null,null,0,0,null,6,null,null,0,0,null,6,null,null,0,0,null,6,null,null,0,0,null,6,null,null,0,0]
[5,null,null,0,0,null,5,null,null,0,0,null,5,null,null,0,0,null,5,null,null,0,0,null,5,null,null,0,0,null,5,null,null,0,0]
[4,null,null,0,0,null,4,null,null,0,0,null,4,null,null,0,0,null,4,null,null,0,0,null,4,null,null,0,0,null,4,null,null,0,0]
[3,null,null,0,0,null,3,null,null,0,0,null,3,null,null,0,0,null,3,null,null,0,0,null,3,null,null,0,0,null,3,null,null,0,0]
[2,null,null,0,0,null,2,null,null,0,0,null,2,null,null,0,0,null,2,null,null,0,0,null,2,null,null,0,0,null,2,null,null,0,0]
[1,null,null,0,0,null,1,null,null,0,0,null,1,null,null,0,0,null,1,null,null,0,0,null,1,null,null,0,0,null,1,null,null,0,0]
["F",null,null,null,null,null,"F",null,null,null,null,null,"F",null,null,null,null,null,"F",null,null,null,null,null,"F",null,null,null,null,null,"F"]
[null,{"$f":"SUM(B5:B15)","v":0},{"$f":"SUM(C5:C15)","v":0},{"$f":"SUM(D5:D15)","v":0},{"$f":"SUM(E5:E15)","v":0},null,null,{"$f":"SUM(H5:H15)","v":0},{"$f":"SUM(I5:I15)","v":0},{"$f":"SUM(J5:J15)","v":0},{"$f":"SUM(K5:K15)","v":0},null,null,{"$f":"SUM(N5:N15)","v":0},{"$f":"SUM(O5:O15)","v":0},{"$f":"SUM(P5:P15)","v":0},{"$f":"SUM(Q5:Q15)","v":0},null,null,{"$f":"SUM(T5:T15)","v":0},{"$f":"SUM(U5:U15)","v":0},{"$f":"SUM(V5:V15)","v":0},{"$f":"SUM(W5:W15)","v":0},null,null,{"$f":"SUM(Z5:Z15)","v":0},{"$f":"SUM(AA5:AA15)","v":0},{"$f":"SUM(AB5:AB15)","v":0},{"$f":"SUM(AC5:AC15)","v":0},null,null,{"$f":"SUM(AF5:AF15)","v":0},{"$f":"SUM(AG5:AG15)","v":0},{"$f":"SUM(AH5:AH15)","v":0},{"$f":"SUM(AI5:AI15)","v":0}]
["20 sec",null,null,null,null,null,"20 sec",null,null,null,null,null,"20 sec",null,null,null,null,null,"20 sec",null,null,null,null,null,"20 sec",null,null,null,null,null,"20 sec"]
["Ring","S1","S2","E1","E2",null,"Ring","S1","S2","E1","E2",null,"Ring","S1","S2","E1","E2",null,"Ring","S1","S2","E1","E2",null,"Ring","S1","S2","E1","E2",null,"Ring","S1","S2","E1","E2"]
[10,null,null,{"$f":"A19*B19","v":0},{"$f":"A19*C19","v":0},null,10,null,null,{"$f":"G19*H19","v":0},{"$f":"G19*I19","v":0},null,10,null,null,{"$f":"M19*N19","v":0},{"$f":"M19*O19","v":0},null,10,null,null,{"$f":"S19*T19","v":0},{"$f":"S19*U19","v":0},null,10,null,null,{"$f":"Y19*Z19","v":0},{"$f":"Y19*AA19","v":0},null,10,null,null,{"$f":"AE19*AF19","v":0},{"$f":"AE19*AG19","v":0}]
[9,null,null,{"$f":"A20*B20","v":0},{"$f":"A20*C20","v":0},null,9,null,null,{"$f":"G20*H20","v":0},{"$f":"G20*I20","v":0},null,9,null,null,{"$f":"M20*N20","v":0},{"$f":"M20*O20","v":0},null,9,null,null,{"$f":"S20*T20","v":0},{"$f":"S20*U20","v":0},null,9,null,null,{"$f":"Y20*Z20","v":0},{"$f":"Y20*AA20","v":0},null,9,null,null,{"$f":"AE20*AF20","v":0},{"$f":"AE20*AG20","v":0}]
[8,null,null,0,0,null,8,null,null,0,0,null,8,null,null,0,0,null,8,null,null,0,0,null,8,null,null,0,0,null,8,null,null,0,0]
[7,null,null,0,0,null,7,null,null,0,0,null,7,null,null,0,0,null,7,null,null,0,0,null,7,null,null,0,0,null,7,null,null,0,0]
[6,null,null,0,0,null,6,null,null,0,0,null,6,null,null,0,0,null,6,null,null,0,0,null,6,null,null,0,0,null,6,null,null,0,0]
[5,null,null,0,0,null,5,null,null,0,0,null,5,null,null,0,0,null,5,null,null,0,0,null,5,null,null,0,0,null,5,null,null,0,0]
[4,null,null,0,0,null,4,null,null,0,0,null,4,null,null,0,0,null,4,null,null,0,0,null,4,null,null,0,0,null,4,null,null,0,0]
[3,null,null,0,0,null,3,null,null,0,0,null,3,null,null,0,0,null,3,null,null,0,0,null,3,null,null,0,0,null,3,null,null,0,0]
[2,null,null,0,0,null,2,null,null,0,0,null,2,null,null,0,0,null,2,null,null,0,0,null,2,null,null,0,0,null,2,null,null,0,0]
[1,null,null,0,0,null,1,null,null,0,0,null,1,null,null,0,0,null,1,null,null,0,0,null,1,null,null,0,0,null,1,null,null,0,0]
["F",null,null,null,null,null,"F",null,null,null,null,null,"F",null,null,null,null,null,"F",null,null,null,null,null,"F",null,null,null,null,null,"F"]
[null,{"$f":"SUM(B19:B29)","v":0},{"$f":"SUM(C19:C29)","v":0},{"$f":"SUM(D19:D29)","v":0},{"$f":"SUM(E19:E29)","v":0},null,null,{"$f":"SUM(H19:H29)","v":0},{"$f":"SUM(I19:I29)","v":0},{"$f":"SUM(J19:J29)","v":0},{"$f":"SUM(K19:K29)","v":0},null,null,{"$f":"SUM(N19:N29)","v":0},{"$f":"SUM(O19:O29)","v":0},{"$f":"SUM(P19:P29)","v":0},{"$f":"SUM(Q19:Q29)","v":0},null,null,{"$f":"SUM(T19:T29)","v":0},{"$f":"SUM(U19:U29)","v":0},{"$f":"SUM(V19:V29)","v":0},{"$f":"SUM(W19:W29)","v":0},null,null,{"$f":"SUM(Z19:Z29)","v":0},{"$f":"SUM(AA19:AA29)","v":0},{"$f":"SUM(AB19:AB29)","v":0},{"$f":"SUM(AC19:AC29)","v":0},null,null,{"$f":"SUM(AF19:AF29)","v":0},{"$f":"SUM(AG19:AG29)","v":0},{"$f":"SUM(AH19:AH29)","v":0},{"$f":"SUM(AI19:AI29)","v":0}]

{"sheet":"Detail Heim","index":4,"n_rows":30,"n_cols":35,"rows_kept":30,"cut":false,"hidden":false,"merged":[[0,18,0,22],[1,18,1,22],[0,0,0,4],[1,0,1,4],[0,6,0,10],[1,6,1,10],[0,12,0,16],[1,12,1,16],[2,0,2,4],[2,18,2,22],[16,18,16,22],[16,0,16,4],[2,6,2,10],[16,6,16,10],[2,12,2,16],[16,12,16,16],[0,24,0,28],[1,24,1,28],[2,24,2,28],[16,24,16,28],[0,30,0,34],[1,30,1,34],[2,30,2,34],[16,30,16,34]]}
["Name",null,null,null,null,null,"Name",null,null,null,null,null,"Name",null,null,null,null,null,"Name",null,null,null,null,null,"Name",null,null,null,null,null,"Name"]
[]
["150 sec",null,null,null,null,null,"150 sec",null,null,null,null,null,"150 sec",null,null,null,null,null,"150 sec",null,null,null,null,null,"150 sec",null,null,null,null,null,"150 sec"]
["Ring","S1","S2","E1","E2",null,"Ring","S1","S2","E1","E2",null,"Ring","S1","S2","E1","E2",null,"Ring","S1","S2","E1","E2",null,"Ring","S1","S2","E1","E2",null,"Ring","S1","S2","E1","E2"]
[10,null,null,{"$f":"A5*B5","v":0},{"$f":"A5*C5","v":0},null,10,null,null,{"$f":"G5*H5","v":0},{"$f":"G5*I5","v":0},null,10,null,null,{"$f":"M5*N5","v":0},{"$f":"M5*O5","v":0},null,10,null,null,{"$f":"S5*T5","v":0},{"$f":"S5*U5","v":0},null,10,null,null,{"$f":"Y5*Z5","v":0},{"$f":"Y5*AA5","v":0},null,10,null,null,{"$f":"AE5*AF5","v":0},{"$f":"AE5*AG5","v":0}]
[9,null,null,0,0,null,9,null,null,0,0,null,9,null,null,0,0,null,9,null,null,0,0,null,9,null,null,0,0,null,9,null,null,0,0]
[8,null,null,0,0,null,8,null,null,0,0,null,8,null,null,0,0,null,8,null,null,0,0,null,8,null,null,0,0,null,8,null,null,0,0]
[7,null,null,0,0,null,7,null,null,0,0,null,7,null,null,0,0,null,7,null,null,0,0,null,7,null,null,0,0,null,7,null,null,0,0]
[6,null,null,0,0,null,6,null,null,0,0,null,6,null,null,0,0,null,6,null,null,0,0,null,6,null,null,0,0,null,6,null,null,0,0]
[5,null,null,0,0,null,5,null,null,0,0,null,5,null,null,0,0,null,5,null,null,0,0,null,5,null,null,0,0,null,5,null,null,0,0]
[4,null,null,0,0,null,4,null,null,0,0,null,4,null,null,0,0,null,4,null,null,0,0,null,4,null,null,0,0,null,4,null,null,0,0]
[3,null,null,0,0,null,3,null,null,0,0,null,3,null,null,0,0,null,3,null,null,0,0,null,3,null,null,0,0,null,3,null,null,0,0]
[2,null,null,0,0,null,2,null,null,0,0,null,2,null,null,0,0,null,2,null,null,0,0,null,2,null,null,0,0,null,2,null,null,0,0]
[1,null,null,0,0,null,1,null,null,0,0,null,1,null,null,0,0,null,1,null,null,0,0,null,1,null,null,0,0,null,1,null,null,0,0]
["F",null,null,null,null,null,"F",null,null,null,null,null,"F",null,null,null,null,null,"F",null,null,null,null,null,"F",null,null,null,null,null,"F"]
[null,{"$f":"SUM(B5:B15)","v":0},{"$f":"SUM(C5:C15)","v":0},{"$f":"SUM(D5:D15)","v":0},{"$f":"SUM(E5:E15)","v":0},null,null,{"$f":"SUM(H5:H15)","v":0},{"$f":"SUM(I5:I15)","v":0},{"$f":"SUM(J5:J15)","v":0},{"$f":"SUM(K5:K15)","v":0},null,null,{"$f":"SUM(N5:N15)","v":0},{"$f":"SUM(O5:O15)","v":0},{"$f":"SUM(P5:P15)","v":0},{"$f":"SUM(Q5:Q15)","v":0},null,null,{"$f":"SUM(T5:T15)","v":0},{"$f":"SUM(U5:U15)","v":0},{"$f":"SUM(V5:V15)","v":0},{"$f":"SUM(W5:W15)","v":0},null,null,{"$f":"SUM(Z5:Z15)","v":0},{"$f":"SUM(AA5:AA15)","v":0},{"$f":"SUM(AB5:AB15)","v":0},{"$f":"SUM(AC5:AC15)","v":0},null,null,{"$f":"SUM(AF5:AF15)","v":0},{"$f":"SUM(AG5:AG15)","v":0},{"$f":"SUM(AH5:AH15)","v":0},{"$f":"SUM(AI5:AI15)","v":0}]
["20 sec",null,null,null,null,null,"20 sec",null,null,null,null,null,"20 sec",null,null,null,null,null,"20 sec",null,null,null,null,null,"20 sec",null,null,null,null,null,"20 sec"]
["Ring","S1","S2","E1","E2",null,"Ring","S1","S2","E1","E2",null,"Ring","S1","S2","E1","E2",null,"Ring","S1","S2","E1","E2",null,"Ring","S1","S2","E1","E2",null,"Ring","S1","S2","E1","E2"]
[10,null,null,{"$f":"A19*B19","v":0},{"$f":"A19*C19","v":0},null,10,null,null,{"$f":"G19*H19","v":0},{"$f":"G19*I19","v":0},null,10,null,null,{"$f":"M19*N19","v":0},{"$f":"M19*O19","v":0},null,10,null,null,{"$f":"S19*T19","v":0},{"$f":"S19*U19","v":0},null,10,null,null,{"$f":"Y19*Z19","v":0},{"$f":"Y19*AA19","v":0},null,10,null,null,{"$f":"AE19*AF19","v":0},{"$f":"AE19*AG19","v":0}]
[9,null,null,0,0,null,9,null,null,0,0,null,9,null,null,0,0,null,9,null,null,0,0,null,9,null,null,0,0,null,9,null,null,0,0]
[8,null,null,0,0,null,8,null,null,0,0,null,8,null,null,0,0,null,8,null,null,0,0,null,8,null,null,0,0,null,8,null,null,0,0]
[7,null,null,0,0,null,7,null,null,0,0,null,7,null,null,0,0,null,7,null,null,0,0,null,7,null,null,0,0,null,7,null,null,0,0]
[6,null,null,0,0,null,6,null,null,0,0,null,6,null,null,0,0,null,6,null,null,0,0,null,6,null,null,0,0,null,6,null,null,0,0]
[5,null,null,0,0,null,5,null,null,0,0,null,5,null,null,0,0,null,5,null,null,0,0,null,5,null,null,0,0,null,5,null,null,0,0]
[4,null,null,0,0,null,4,null,null,0,0,null,4,null,null,0,0,null,4,null,null,0,0,null,4,null,null,0,0,null,4,null,null,0,0]
[3,null,null,0,0,null,3,null,null,0,0,null,3,null,null,0,0,null,3,null,null,0,0,null,3,null,null,0,0,null,3,null,null,0,0]
[2,null,null,0,0,null,2,null,null,0,0,null,2,null,null,0,0,null,2,null,null,0,0,null,2,null,null,0,0,null,2,null,null,0,0]
[1,null,null,0,0,null,1,null,null,0,0,null,1,null,null,0,0,null,1,null,null,0,0,null,1,null,null,0,0,null,1,null,null,0,0]
["F",null,null,null,null,null,"F",null,null,null,null,null,"F",null,null,null,null,null,"F",null,null,null,null,null,"F",null,null,null,null,null,"F"]
[null,{"$f":"SUM(B19:B29)","v":0},{"$f":"SUM(C19:C29)","v":0},{"$f":"SUM(D19:D29)","v":0},{"$f":"SUM(E19:E29)","v":0},null,null,{"$f":"SUM(H19:H29)","v":0},{"$f":"SUM(I19:I29)","v":0},{"$f":"SUM(J19:J29)","v":0},{"$f":"SUM(K19:K29)","v":0},null,null,{"$f":"SUM(N19:N29)","v":0},{"$f":"SUM(O19:O29)","v":0},{"$f":"SUM(P19:P29)","v":0},{"$f":"SUM(Q19:Q29)","v":0},null,null,{"$f":"SUM(T19:T29)","v":0},{"$f":"SUM(U19:U29)","v":0},{"$f":"SUM(V19:V29)","v":0},{"$f":"SUM(W19:W29)","v":0},null,null,{"$f":"SUM(Z19:Z29)","v":0},{"$f":"SUM(AA19:AA29)","v":0},{"$f":"SUM(AB19:AB29)","v":0},{"$f":"SUM(AC19:AC29)","v":0},null,null,{"$f":"SUM(AF19:AF29)","v":0},{"$f":"SUM(AG19:AG29)","v":0},{"$f":"SUM(AH19:AH29)","v":0},{"$f":"SUM(AI19:AI29)","v":0}]